BEGIN:VCALENDAR
VERSION:2.0
METHOD:PUBLISH
X-WR-CALNAME:Schwaikheim _2026-05-06
PRODID:-//www.se-winnenden.de//iCal
X-WR-CALDESC:Verwaltungsausschuss
X-WR-TIMEZONE:Europe/Berlin
CALSCALE:GREGORIAN
BEGIN:VEVENT
UID:SEWSL-Schwaikheim -s15143833
DESCRIPTION:Verwaltungsausschuss
SUMMARY:Verwaltungsausschuss
DTSTART:20260506T190000
DTEND:20260506T210000
DTSTAMP:20260422T000000Z
LOCATION:Gemein&shyde&shy;saal St. Maria, Schwaikheim
TRANSP:TRANSPARENT
BEGIN:VALARM
TRIGGER:-PT0H30M
ACTION:DISPLAY
SUMMARY:Verwaltungsausschuss
END:VALARM
END:VEVENT
END:VCALENDAR