BEGIN:VCALENDAR
VERSION:2.0
METHOD:PUBLISH
X-WR-CALNAME:Gottesdienste-Schwaikheim-Oktober-2026
PRODID:-//www.se-winnenden.de//iCal
X-WR-CALDESC:Gottesdienste
X-WR-TIMEZONE:Europe/Berlin
CALSCALE:GREGORIAN
BEGIN:VEVENT
UID:SEWSL-Schwaikheim-s15161350
DESCRIPTION:EucharistiefeierAnschließend Frühstück
SUMMARY:Eucharistiefeier
DTSTART:20261002T090000
DTEND:20261002T094500
DTSTAMP:20260421T000000Z
LOCATION:Kirche St. Maria, Schwaikheim
TRANSP:TRANSPARENT
BEGIN:VALARM
TRIGGER:-PT0H30M
ACTION:DISPLAY
SUMMARY:Eucharistiefeier
END:VALARM
END:VEVENT
BEGIN:VEVENT
UID:SEWSL-Schwaikheim-s14643367
DESCRIPTION:Eucharistiefeier
SUMMARY:Eucharistiefeier
DTSTART:20261004T103000
DTEND:20261004T113000
DTSTAMP:20260421T000000Z
LOCATION:Kirche St. Maria, Schwaikheim
TRANSP:TRANSPARENT
BEGIN:VALARM
TRIGGER:-PT0H30M
ACTION:DISPLAY
SUMMARY:Eucharistiefeier
END:VALARM
END:VEVENT
BEGIN:VEVENT
UID:SEWSL-Schwaikheim-s15049117
DESCRIPTION:Eucharistische Anbetung
SUMMARY:Eucharistische Anbetung
DTSTART:20261004T170000
DTEND:20261004T180000
DTSTAMP:20260421T000000Z
LOCATION:Kirche St. Maria, Schwaikheim
TRANSP:TRANSPARENT
BEGIN:VALARM
TRIGGER:-PT0H30M
ACTION:DISPLAY
SUMMARY:Eucharistische Anbetung
END:VALARM
END:VEVENT
BEGIN:VEVENT
UID:SEWSL-Schwaikheim-s15161445
DESCRIPTION:Wortgottesdienst
SUMMARY:Wortgottesdienst
DTSTART:20261006T103000
DTEND:20261006T113000
DTSTAMP:20260421T000000Z
LOCATION:Haus Elim, Schwaikheim
TRANSP:TRANSPARENT
BEGIN:VALARM
TRIGGER:-PT0H30M
ACTION:DISPLAY
SUMMARY:Wortgottesdienst
END:VALARM
END:VEVENT
BEGIN:VEVENT
UID:SEWSL-Schwaikheim-s15161356
DESCRIPTION:EucharistiefeierAnschließend Frühstück
SUMMARY:Eucharistiefeier
DTSTART:20261009T090000
DTEND:20261009T094500
DTSTAMP:20260421T000000Z
LOCATION:Kirche St. Maria, Schwaikheim
TRANSP:TRANSPARENT
BEGIN:VALARM
TRIGGER:-PT0H30M
ACTION:DISPLAY
SUMMARY:Eucharistiefeier
END:VALARM
END:VEVENT
BEGIN:VEVENT
UID:SEWSL-Schwaikheim-s14749088
DESCRIPTION:Wortgottesdienst
SUMMARY:Wortgottesdienst
DTSTART:20261011T103000
DTEND:20261011T113000
DTSTAMP:20260421T000000Z
LOCATION:Kirche St. Maria, Schwaikheim
TRANSP:TRANSPARENT
BEGIN:VALARM
TRIGGER:-PT0H30M
ACTION:DISPLAY
SUMMARY:Wortgottesdienst
END:VALARM
END:VEVENT
BEGIN:VEVENT
UID:SEWSL-Schwaikheim-s15161362
DESCRIPTION:EucharistiefeierAnschließend Frühstück
SUMMARY:Eucharistiefeier
DTSTART:20261016T090000
DTEND:20261016T094500
DTSTAMP:20260421T000000Z
LOCATION:Kirche St. Maria, Schwaikheim
TRANSP:TRANSPARENT
BEGIN:VALARM
TRIGGER:-PT0H30M
ACTION:DISPLAY
SUMMARY:Eucharistiefeier
END:VALARM
END:VEVENT
END:VCALENDAR