BEGIN:VCALENDAR
VERSION:2.0
METHOD:PUBLISH
X-WR-CALNAME:Gottesdienste-Schwaikheim-September-2026
PRODID:-//www.se-winnenden.de//iCal
X-WR-CALDESC:Gottesdienste
X-WR-TIMEZONE:Europe/Berlin
CALSCALE:GREGORIAN
BEGIN:VEVENT
UID:SEWSL-Schwaikheim-s15161444
DESCRIPTION:Wortgottesdienst
SUMMARY:Wortgottesdienst
DTSTART:20260901T103000
DTEND:20260901T113000
DTSTAMP:20260421T000000Z
LOCATION:Haus Elim, Schwaikheim
TRANSP:TRANSPARENT
BEGIN:VALARM
TRIGGER:-PT0H30M
ACTION:DISPLAY
SUMMARY:Wortgottesdienst
END:VALARM
END:VEVENT
BEGIN:VEVENT
UID:SEWSL-Schwaikheim-s15161326
DESCRIPTION:EucharistiefeierAnschließend Frühstück
SUMMARY:Eucharistiefeier
DTSTART:20260904T090000
DTEND:20260904T094500
DTSTAMP:20260421T000000Z
LOCATION:Kirche St. Maria, Schwaikheim
TRANSP:TRANSPARENT
BEGIN:VALARM
TRIGGER:-PT0H30M
ACTION:DISPLAY
SUMMARY:Eucharistiefeier
END:VALARM
END:VEVENT
BEGIN:VEVENT
UID:SEWSL-Schwaikheim-s14487074
DESCRIPTION:Eucharistiefeier
SUMMARY:Eucharistiefeier
DTSTART:20260906T103000
DTEND:20260906T113000
DTSTAMP:20260421T000000Z
LOCATION:Kirche St. Maria, Schwaikheim
TRANSP:TRANSPARENT
BEGIN:VALARM
TRIGGER:-PT0H30M
ACTION:DISPLAY
SUMMARY:Eucharistiefeier
END:VALARM
END:VEVENT
BEGIN:VEVENT
UID:SEWSL-Schwaikheim-s15049114
DESCRIPTION:Eucharistische Anbetung
SUMMARY:Eucharistische Anbetung
DTSTART:20260906T170000
DTEND:20260906T180000
DTSTAMP:20260421T000000Z
LOCATION:Kirche St. Maria, Schwaikheim
TRANSP:TRANSPARENT
BEGIN:VALARM
TRIGGER:-PT0H30M
ACTION:DISPLAY
SUMMARY:Eucharistische Anbetung
END:VALARM
END:VEVENT
BEGIN:VEVENT
UID:SEWSL-Schwaikheim-s15161332
DESCRIPTION:EucharistiefeierAnschließend Frühstück
SUMMARY:Eucharistiefeier
DTSTART:20260911T090000
DTEND:20260911T094500
DTSTAMP:20260421T000000Z
LOCATION:Kirche St. Maria, Schwaikheim
TRANSP:TRANSPARENT
BEGIN:VALARM
TRIGGER:-PT0H30M
ACTION:DISPLAY
SUMMARY:Eucharistiefeier
END:VALARM
END:VEVENT
BEGIN:VEVENT
UID:SEWSL-Schwaikheim-s14749082
DESCRIPTION:Wortgottesdienst
SUMMARY:Wortgottesdienst
DTSTART:20260913T103000
DTEND:20260913T113000
DTSTAMP:20260421T000000Z
LOCATION:Kirche St. Maria, Schwaikheim
TRANSP:TRANSPARENT
BEGIN:VALARM
TRIGGER:-PT0H30M
ACTION:DISPLAY
SUMMARY:Wortgottesdienst
END:VALARM
END:VEVENT
BEGIN:VEVENT
UID:SEWSL-Schwaikheim-s15162042
DESCRIPTION:Ökum. Einschulungs-Gottesdienst
SUMMARY:Ökum. Einschulungs-Gottesdienst
DTSTART:20260917T170000
DTEND:20260917T180000
DTSTAMP:20260421T000000Z
LOCATION:Kirche St. Maria, Schwaikheim
TRANSP:TRANSPARENT
BEGIN:VALARM
TRIGGER:-PT0H30M
ACTION:DISPLAY
SUMMARY:Ökum. Einschulungs-Gottesdienst
END:VALARM
END:VEVENT
BEGIN:VEVENT
UID:SEWSL-Schwaikheim-s15161338
DESCRIPTION:EucharistiefeierAnschließend Frühstück
SUMMARY:Eucharistiefeier
DTSTART:20260918T090000
DTEND:20260918T094500
DTSTAMP:20260421T000000Z
LOCATION:Kirche St. Maria, Schwaikheim
TRANSP:TRANSPARENT
BEGIN:VALARM
TRIGGER:-PT0H30M
ACTION:DISPLAY
SUMMARY:Eucharistiefeier
END:VALARM
END:VEVENT
BEGIN:VEVENT
UID:SEWSL-Schwaikheim-s14559860
DESCRIPTION:Eucharistiefeier
SUMMARY:Eucharistiefeier
DTSTART:20260920T103000
DTEND:20260920T113000
DTSTAMP:20260421T000000Z
LOCATION:Kirche St. Maria, Schwaikheim
TRANSP:TRANSPARENT
BEGIN:VALARM
TRIGGER:-PT0H30M
ACTION:DISPLAY
SUMMARY:Eucharistiefeier
END:VALARM
END:VEVENT
BEGIN:VEVENT
UID:SEWSL-Schwaikheim-s15161344
DESCRIPTION:EucharistiefeierAnschließend Frühstück
SUMMARY:Eucharistiefeier
DTSTART:20260925T090000
DTEND:20260925T094500
DTSTAMP:20260421T000000Z
LOCATION:Kirche St. Maria, Schwaikheim
TRANSP:TRANSPARENT
BEGIN:VALARM
TRIGGER:-PT0H30M
ACTION:DISPLAY
SUMMARY:Eucharistiefeier
END:VALARM
END:VEVENT
BEGIN:VEVENT
UID:SEWSL-Schwaikheim-s15162263
DESCRIPTION:Tauffeier
SUMMARY:Tauffeier
DTSTART:20260926T110000
DTEND:20260926T120000
DTSTAMP:20260421T000000Z
LOCATION:Kirche St. Maria, Schwaikheim
TRANSP:TRANSPARENT
BEGIN:VALARM
TRIGGER:-PT0H30M
ACTION:DISPLAY
SUMMARY:Tauffeier
END:VALARM
END:VEVENT
BEGIN:VEVENT
UID:SEWSL-Schwaikheim-s14749151
DESCRIPTION:AUSZEIT
SUMMARY:AUSZEIT
DTSTART:20260927T180000
DTEND:20260927T190000
DTSTAMP:20260421T000000Z
LOCATION:Kirche St. Maria, Schwaikheim
TRANSP:TRANSPARENT
BEGIN:VALARM
TRIGGER:-PT0H30M
ACTION:DISPLAY
SUMMARY:AUSZEIT
END:VALARM
END:VEVENT
END:VCALENDAR