BEGIN:VCALENDAR
VERSION:2.0
METHOD:PUBLISH
X-WR-CALNAME:Gottesdienste-Schwaikheim-August-2026
PRODID:-//www.se-winnenden.de//iCal
X-WR-CALDESC:Gottesdienste
X-WR-TIMEZONE:Europe/Berlin
CALSCALE:GREGORIAN
BEGIN:VEVENT
UID:SEWSL-Schwaikheim-s14389868
DESCRIPTION:Eucharistiefeier
SUMMARY:Eucharistiefeier
DTSTART:20260802T103000
DTEND:20260802T113000
DTSTAMP:20260421T000000Z
LOCATION:Kirche St. Maria, Schwaikheim
TRANSP:TRANSPARENT
BEGIN:VALARM
TRIGGER:-PT0H30M
ACTION:DISPLAY
SUMMARY:Eucharistiefeier
END:VALARM
END:VEVENT
BEGIN:VEVENT
UID:SEWSL-Schwaikheim-s15161443
DESCRIPTION:Wortgottesdienst
SUMMARY:Wortgottesdienst
DTSTART:20260804T103000
DTEND:20260804T113000
DTSTAMP:20260421T000000Z
LOCATION:Haus Elim, Schwaikheim
TRANSP:TRANSPARENT
BEGIN:VALARM
TRIGGER:-PT0H30M
ACTION:DISPLAY
SUMMARY:Wortgottesdienst
END:VALARM
END:VEVENT
BEGIN:VEVENT
UID:SEWSL-Schwaikheim-s15161302
DESCRIPTION:EucharistiefeierAnschließend Frühstück
SUMMARY:Eucharistiefeier
DTSTART:20260807T090000
DTEND:20260807T094500
DTSTAMP:20260421T000000Z
LOCATION:Kirche St. Maria, Schwaikheim
TRANSP:TRANSPARENT
BEGIN:VALARM
TRIGGER:-PT0H30M
ACTION:DISPLAY
SUMMARY:Eucharistiefeier
END:VALARM
END:VEVENT
BEGIN:VEVENT
UID:SEWSL-Schwaikheim-s14749076
DESCRIPTION:Wortgottesdienst
SUMMARY:Wortgottesdienst
DTSTART:20260809T103000
DTEND:20260809T113000
DTSTAMP:20260421T000000Z
LOCATION:Kirche St. Maria, Schwaikheim
TRANSP:TRANSPARENT
BEGIN:VALARM
TRIGGER:-PT0H30M
ACTION:DISPLAY
SUMMARY:Wortgottesdienst
END:VALARM
END:VEVENT
BEGIN:VEVENT
UID:SEWSL-Schwaikheim-s15161308
DESCRIPTION:Eucharistiefeier mit KräutersegnungAnschließend Frühstück
SUMMARY:Eucharistiefeier mit Kräutersegnung
DTSTART:20260814T090000
DTEND:20260814T094500
DTSTAMP:20260421T000000Z
LOCATION:Kirche St. Maria, Schwaikheim
TRANSP:TRANSPARENT
BEGIN:VALARM
TRIGGER:-PT0H30M
ACTION:DISPLAY
SUMMARY:Eucharistiefeier mit Kräutersegnung
END:VALARM
END:VEVENT
BEGIN:VEVENT
UID:SEWSL-Schwaikheim-s14417558
DESCRIPTION:Eucharistiefeier
SUMMARY:Eucharistiefeier
DTSTART:20260816T103000
DTEND:20260816T113000
DTSTAMP:20260421T000000Z
LOCATION:Kirche St. Maria, Schwaikheim
TRANSP:TRANSPARENT
BEGIN:VALARM
TRIGGER:-PT0H30M
ACTION:DISPLAY
SUMMARY:Eucharistiefeier
END:VALARM
END:VEVENT
BEGIN:VEVENT
UID:SEWSL-Schwaikheim-s15161314
DESCRIPTION:EucharistiefeierAnschließend Frühstück
SUMMARY:Eucharistiefeier
DTSTART:20260821T090000
DTEND:20260821T094500
DTSTAMP:20260421T000000Z
LOCATION:Kirche St. Maria, Schwaikheim
TRANSP:TRANSPARENT
BEGIN:VALARM
TRIGGER:-PT0H30M
ACTION:DISPLAY
SUMMARY:Eucharistiefeier
END:VALARM
END:VEVENT
BEGIN:VEVENT
UID:SEWSL-Schwaikheim-s14749145
DESCRIPTION:AUSZEIT
SUMMARY:AUSZEIT
DTSTART:20260823T180000
DTEND:20260823T190000
DTSTAMP:20260421T000000Z
LOCATION:Kirche St. Maria, Schwaikheim
TRANSP:TRANSPARENT
BEGIN:VALARM
TRIGGER:-PT0H30M
ACTION:DISPLAY
SUMMARY:AUSZEIT
END:VALARM
END:VEVENT
BEGIN:VEVENT
UID:SEWSL-Schwaikheim-s15161320
DESCRIPTION:EucharistiefeierAnschließend Frühstück
SUMMARY:Eucharistiefeier
DTSTART:20260828T090000
DTEND:20260828T094500
DTSTAMP:20260421T000000Z
LOCATION:Kirche St. Maria, Schwaikheim
TRANSP:TRANSPARENT
BEGIN:VALARM
TRIGGER:-PT0H30M
ACTION:DISPLAY
SUMMARY:Eucharistiefeier
END:VALARM
END:VEVENT
BEGIN:VEVENT
UID:SEWSL-Schwaikheim-s15328628
DESCRIPTION:Eucharistiefeier
SUMMARY:Eucharistiefeier
DTSTART:20260830T103000
DTEND:20260830T113000
DTSTAMP:20260421T000000Z
LOCATION:Kirche St. Maria, Schwaikheim
TRANSP:TRANSPARENT
BEGIN:VALARM
TRIGGER:-PT0H30M
ACTION:DISPLAY
SUMMARY:Eucharistiefeier
END:VALARM
END:VEVENT
END:VCALENDAR