BEGIN:VCALENDAR
VERSION:2.0
METHOD:PUBLISH
X-WR-CALNAME:Gottesdienste-Schwaikheim-Mai-2026
PRODID:-//www.se-winnenden.de//iCal
X-WR-CALDESC:Gottesdienste
X-WR-TIMEZONE:Europe/Berlin
CALSCALE:GREGORIAN
BEGIN:VEVENT
UID:SEWSL-Schwaikheim-s14389832
DESCRIPTION:Eucharistiefeier
SUMMARY:Eucharistiefeier
DTSTART:20260503T103000
DTEND:20260503T113000
DTSTAMP:20260420T000000Z
LOCATION:Kirche St. Maria, Schwaikheim
TRANSP:TRANSPARENT
BEGIN:VALARM
TRIGGER:-PT0H30M
ACTION:DISPLAY
SUMMARY:Eucharistiefeier
END:VALARM
END:VEVENT
BEGIN:VEVENT
UID:SEWSL-Schwaikheim-s15049100
DESCRIPTION:Eucharistische Anbetung
SUMMARY:Eucharistische Anbetung
DTSTART:20260503T170000
DTEND:20260503T180000
DTSTAMP:20260420T000000Z
LOCATION:Kirche St. Maria, Schwaikheim
TRANSP:TRANSPARENT
BEGIN:VALARM
TRIGGER:-PT0H30M
ACTION:DISPLAY
SUMMARY:Eucharistische Anbetung
END:VALARM
END:VEVENT
BEGIN:VEVENT
UID:SEWSL-Schwaikheim-s13988254
DESCRIPTION:Wortgottesdienst
SUMMARY:Wortgottesdienst
DTSTART:20260505T103000
DTEND:20260505T113000
DTSTAMP:20260420T000000Z
LOCATION:Haus Elim, Schwaikheim
TRANSP:TRANSPARENT
BEGIN:VALARM
TRIGGER:-PT0H30M
ACTION:DISPLAY
SUMMARY:Wortgottesdienst
END:VALARM
END:VEVENT
BEGIN:VEVENT
UID:SEWSL-Schwaikheim-s14002246
DESCRIPTION:EucharistiefeierAnschließend Frühstück
SUMMARY:Eucharistiefeier
DTSTART:20260508T090000
DTEND:20260508T094500
DTSTAMP:20260420T000000Z
LOCATION:Kirche St. Maria, Schwaikheim
TRANSP:TRANSPARENT
BEGIN:VALARM
TRIGGER:-PT0H30M
ACTION:DISPLAY
SUMMARY:Eucharistiefeier
END:VALARM
END:VEVENT
BEGIN:VEVENT
UID:SEWSL-Schwaikheim-s14749058
DESCRIPTION:Wortgottesdienst
SUMMARY:Wortgottesdienst
DTSTART:20260510T103000
DTEND:20260510T113000
DTSTAMP:20260420T000000Z
LOCATION:Kirche St. Maria, Schwaikheim
TRANSP:TRANSPARENT
BEGIN:VALARM
TRIGGER:-PT0H30M
ACTION:DISPLAY
SUMMARY:Wortgottesdienst
END:VALARM
END:VEVENT
BEGIN:VEVENT
UID:SEWSL-Schwaikheim-s15148514
DESCRIPTION:Ökum. Gottesdienst an der Linde
SUMMARY:Ökum. Gottesdienst an der Linde
DTSTART:20260514T103000
DTEND:20260514T113000
DTSTAMP:20260420T000000Z
LOCATION:Bei der Linde, Schwaikheim
TRANSP:TRANSPARENT
BEGIN:VALARM
TRIGGER:-PT0H30M
ACTION:DISPLAY
SUMMARY:Ökum. Gottesdienst an der Linde
END:VALARM
END:VEVENT
BEGIN:VEVENT
UID:SEWSL-Schwaikheim-s14034634
DESCRIPTION:EucharistiefeierAnschließend Frühstück
SUMMARY:Eucharistiefeier
DTSTART:20260515T090000
DTEND:20260515T094500
DTSTAMP:20260420T000000Z
LOCATION:Kirche St. Maria, Schwaikheim
TRANSP:TRANSPARENT
BEGIN:VALARM
TRIGGER:-PT0H30M
ACTION:DISPLAY
SUMMARY:Eucharistiefeier
END:VALARM
END:VEVENT
BEGIN:VEVENT
UID:SEWSL-Schwaikheim-s14389838
DESCRIPTION:Dank-Gottesdienst Erstkommunion
SUMMARY:Dank-Gottesdienst Erstkommunion
DTSTART:20260517T103000
DTEND:20260517T113000
DTSTAMP:20260420T000000Z
LOCATION:Kirche St. Maria, Schwaikheim
TRANSP:TRANSPARENT
BEGIN:VALARM
TRIGGER:-PT0H30M
ACTION:DISPLAY
SUMMARY:Dank-Gottesdienst Erstkommunion
END:VALARM
END:VEVENT
BEGIN:VEVENT
UID:SEWSL-Schwaikheim-s15148603
DESCRIPTION:Maiandacht
SUMMARY:Maiandacht
DTSTART:20260519T190000
DTEND:20260519T200000
DTSTAMP:20260420T000000Z
LOCATION:Kirche St. Maria, Schwaikheim
TRANSP:TRANSPARENT
BEGIN:VALARM
TRIGGER:-PT0H30M
ACTION:DISPLAY
SUMMARY:Maiandacht
END:VALARM
END:VEVENT
BEGIN:VEVENT
UID:SEWSL-Schwaikheim-s14061267
DESCRIPTION:EucharistiefeierAnschließend Frühstück
SUMMARY:Eucharistiefeier
DTSTART:20260522T090000
DTEND:20260522T094500
DTSTAMP:20260420T000000Z
LOCATION:Kirche St. Maria, Schwaikheim
TRANSP:TRANSPARENT
BEGIN:VALARM
TRIGGER:-PT0H30M
ACTION:DISPLAY
SUMMARY:Eucharistiefeier
END:VALARM
END:VEVENT
BEGIN:VEVENT
UID:SEWSL-Schwaikheim-w15329198
DESCRIPTION:Beichtgelegenheit
SUMMARY:Beichtgelegenheit
DTSTART:20260523T160000
DTEND:20260523T170000
DTSTAMP:20260420T000000Z
LOCATION:Kirche St. Karl Borromäus, Winnenden
TRANSP:TRANSPARENT
BEGIN:VALARM
TRIGGER:-PT0H30M
ACTION:DISPLAY
SUMMARY:Beichtgelegenheit
END:VALARM
END:VEVENT
BEGIN:VEVENT
UID:SEWSL-Schwaikheim-s15148776
DESCRIPTION:AUSZEIT
SUMMARY:AUSZEIT
DTSTART:20260524T180000
DTEND:20260524T190000
DTSTAMP:20260420T000000Z
LOCATION:Kirche St. Maria, Schwaikheim
TRANSP:TRANSPARENT
BEGIN:VALARM
TRIGGER:-PT0H30M
ACTION:DISPLAY
SUMMARY:AUSZEIT
END:VALARM
END:VEVENT
BEGIN:VEVENT
UID:SEWSL-Schwaikheim-s15148787
DESCRIPTION:Ökum. Gottesdienst
SUMMARY:Ökum. Gottesdienst
DTSTART:20260525T103000
DTEND:20260525T113000
DTSTAMP:20260420T000000Z
LOCATION:Kirche St. Maria, Schwaikheim
TRANSP:TRANSPARENT
BEGIN:VALARM
TRIGGER:-PT0H30M
ACTION:DISPLAY
SUMMARY:Ökum. Gottesdienst
END:VALARM
END:VEVENT
BEGIN:VEVENT
UID:SEWSL-Schwaikheim-s15148871
DESCRIPTION:Eucharistiefeier
SUMMARY:Eucharistiefeier
DTSTART:20260531T103000
DTEND:20260531T113000
DTSTAMP:20260420T000000Z
LOCATION:Kirche St. Maria, Schwaikheim
TRANSP:TRANSPARENT
BEGIN:VALARM
TRIGGER:-PT0H30M
ACTION:DISPLAY
SUMMARY:Eucharistiefeier
END:VALARM
END:VEVENT
END:VCALENDAR