BEGIN:VCALENDAR
VERSION:2.0
METHOD:PUBLISH
X-WR-CALNAME:Gottesdienste-Schwaikheim-April-2026
PRODID:-//www.se-winnenden.de//iCal
X-WR-CALDESC:Gottesdienste
X-WR-TIMEZONE:Europe/Berlin
CALSCALE:GREGORIAN
BEGIN:VEVENT
UID:SEWSL-Schwaikheim-s13954371
DESCRIPTION:EucharistiefeierAnschließend Frühstück
SUMMARY:Eucharistiefeier
DTSTART:20260424T090000
DTEND:20260424T094500
DTSTAMP:20260421T000000Z
LOCATION:Kirche St. Maria, Schwaikheim
TRANSP:TRANSPARENT
BEGIN:VALARM
TRIGGER:-PT0H30M
ACTION:DISPLAY
SUMMARY:Eucharistiefeier
END:VALARM
END:VEVENT
BEGIN:VEVENT
UID:SEWSL-Schwaikheim-s15143798
DESCRIPTION:Tauffeier
SUMMARY:Tauffeier
DTSTART:20260425T110000
DTEND:20260425T120000
DTSTAMP:20260421T000000Z
LOCATION:Kirche St. Maria, Schwaikheim
TRANSP:TRANSPARENT
BEGIN:VALARM
TRIGGER:-PT0H30M
ACTION:DISPLAY
SUMMARY:Tauffeier
END:VALARM
END:VEVENT
BEGIN:VEVENT
UID:SEWSL-Schwaikheim-s14749127
DESCRIPTION:AUSZEIT
SUMMARY:AUSZEIT
DTSTART:20260426T180000
DTEND:20260426T190000
DTSTAMP:20260421T000000Z
LOCATION:Kirche St. Maria, Schwaikheim
TRANSP:TRANSPARENT
BEGIN:VALARM
TRIGGER:-PT0H30M
ACTION:DISPLAY
SUMMARY:AUSZEIT
END:VALARM
END:VEVENT
END:VCALENDAR